BEGIN:VCALENDAR
VERSION:2.0
METHOD:PUBLISH
PRODID:-//Event-List//NONSGML Event-List 5.10.0//DE
X-WR-TIMEZONE:Europe/Amsterdam
CALSCALE:GREGORIAN
BEGIN:VTIMEZONE
TZID:Europe/Amsterdam
BEGIN:DAYLIGHT
TZOFFSETFROM:+0100
TZOFFSETTO:+0200
DTSTART:19810329T020000
RRULE:FREQ=YEARLY;BYMONTH=3;BYDAY=-1SU
TZNAME:CEST
END:DAYLIGHT
BEGIN:STANDARD
TZOFFSETFROM:+0200
TZOFFSETTO:+0100
DTSTART:19961027T030000
RRULE:FREQ=YEARLY;BYMONTH=10;BYDAY=-1SU
TZNAME:CET
END:STANDARD
END:VTIMEZONE
BEGIN:VEVENT
DTSTAMP:20250620T113054Z
DTSTART;TZID=Europe/Amsterdam:20250923T153500
DTEND;TZID=Europe/Amsterdam:20250923T160500
UID:17431@hollingstedt-dithmarschen.de/calendar
CLASS:PUBLIC
SUMMARY: Bücherbus am MarktTreff Eiderschleife
DESCRIPTION:
END:VEVENT
END:VCALENDAR
